BEGIN:VCALENDAR
VERSION:2.0
PRODID:-//bdpatoday - ECPv6.15.20//NONSGML v1.0//EN
CALSCALE:GREGORIAN
METHOD:PUBLISH
X-WR-CALNAME:bdpatoday
X-ORIGINAL-URL:https://bdpatoday.com
X-WR-CALDESC:Events for bdpatoday
REFRESH-INTERVAL;VALUE=DURATION:PT1H
X-Robots-Tag:noindex
X-PUBLISHED-TTL:PT1H
BEGIN:VTIMEZONE
TZID:America/New_York
BEGIN:DAYLIGHT
TZOFFSETFROM:-0500
TZOFFSETTO:-0400
TZNAME:EDT
DTSTART:20240310T070000
END:DAYLIGHT
BEGIN:STANDARD
TZOFFSETFROM:-0400
TZOFFSETTO:-0500
TZNAME:EST
DTSTART:20241103T060000
END:STANDARD
BEGIN:DAYLIGHT
TZOFFSETFROM:-0500
TZOFFSETTO:-0400
TZNAME:EDT
DTSTART:20250309T070000
END:DAYLIGHT
BEGIN:STANDARD
TZOFFSETFROM:-0400
TZOFFSETTO:-0500
TZNAME:EST
DTSTART:20251102T060000
END:STANDARD
BEGIN:DAYLIGHT
TZOFFSETFROM:-0500
TZOFFSETTO:-0400
TZNAME:EDT
DTSTART:20260308T070000
END:DAYLIGHT
BEGIN:STANDARD
TZOFFSETFROM:-0400
TZOFFSETTO:-0500
TZNAME:EST
DTSTART:20261101T060000
END:STANDARD
END:VTIMEZONE
BEGIN:VEVENT
DTSTART;TZID=America/New_York:20250422T000000
DTEND;TZID=America/New_York:20250423T235959
DTSTAMP:20260423T083928
CREATED:20250422T114901Z
LAST-MODIFIED:20250423T124947Z
UID:77858-1745280000-1745452799@bdpatoday.com
SUMMARY:U.S. Army Team APG APBI | Aberdeen\, MD
DESCRIPTION:Team APG Advance Planning Briefing to Industry (APBI)\nPre-Registration & Event details:https://www.eventbrite.com/e/team-apg-advance-planning-briefing-to-industry-apbi-2025-day-1-tickets-1296135860249?aff=oddtdtcreator    \nHost Chapter: BDPA Baltimore \nJoin U.S. Army misssion partners ARL\, ATEC\, CECOM\, DEVCOM\, OSBP\, regional BDPA Members\, and more at Aberdeen Proving Ground for an exciting in-person two-day gathering where industry leaders and government representatives will come together to discuss future plans and collaborations. Don’t miss this opportunity to network\, share ideas\, and stay ahead of the curve in defense innovation. Mark your calendars and be part of shaping the future of Team APG! \nShare this:\n				Share on X (Opens in new window)\n				X\n			\n				Share on Facebook (Opens in new window)\n				Facebook\n			\n				Share on LinkedIn (Opens in new window)\n				LinkedIn\n			\n				Share on Tumblr (Opens in new window)\n				Tumblr\n			\n				Share on Pinterest (Opens in new window)\n				Pinterest\n			Like this:Like Loading...
URL:https://bdpatoday.com/techevent/u-s-army-team-apg-apbi-aberdeen-md/
LOCATION:Aberdeen Proving Ground\, Aberdeen Proving Ground\, MD\, United States
END:VEVENT
BEGIN:VEVENT
DTSTART;TZID=America/New_York:20250422T000000
DTEND;TZID=America/New_York:20250422T235959
DTSTAMP:20260423T083928
CREATED:20250323T033153Z
LAST-MODIFIED:20250422T124753Z
UID:77396-1745280000-1745366399@bdpatoday.com
SUMMARY:Earth Day 2025
DESCRIPTION:Share this:\n				Share on X (Opens in new window)\n				X\n			\n				Share on Facebook (Opens in new window)\n				Facebook\n			\n				Share on LinkedIn (Opens in new window)\n				LinkedIn\n			\n				Share on Tumblr (Opens in new window)\n				Tumblr\n			\n				Share on Pinterest (Opens in new window)\n				Pinterest\n			Like this:Like Loading...
URL:https://bdpatoday.com/techevent/earth-day-2025/
END:VEVENT
END:VCALENDAR