BEGIN:VCALENDAR
VERSION:2.0
PRODID:-//bdpatoday - ECPv6.15.20//NONSGML v1.0//EN
CALSCALE:GREGORIAN
METHOD:PUBLISH
X-WR-CALNAME:bdpatoday
X-ORIGINAL-URL:https://bdpatoday.com
X-WR-CALDESC:Events for bdpatoday
REFRESH-INTERVAL;VALUE=DURATION:PT1H
X-Robots-Tag:noindex
X-PUBLISHED-TTL:PT1H
BEGIN:VTIMEZONE
TZID:America/New_York
BEGIN:DAYLIGHT
TZOFFSETFROM:-0500
TZOFFSETTO:-0400
TZNAME:EDT
DTSTART:20250309T070000
END:DAYLIGHT
BEGIN:STANDARD
TZOFFSETFROM:-0400
TZOFFSETTO:-0500
TZNAME:EST
DTSTART:20251102T060000
END:STANDARD
BEGIN:DAYLIGHT
TZOFFSETFROM:-0500
TZOFFSETTO:-0400
TZNAME:EDT
DTSTART:20260308T070000
END:DAYLIGHT
BEGIN:STANDARD
TZOFFSETFROM:-0400
TZOFFSETTO:-0500
TZNAME:EST
DTSTART:20261101T060000
END:STANDARD
BEGIN:DAYLIGHT
TZOFFSETFROM:-0500
TZOFFSETTO:-0400
TZNAME:EDT
DTSTART:20270314T070000
END:DAYLIGHT
BEGIN:STANDARD
TZOFFSETFROM:-0400
TZOFFSETTO:-0500
TZNAME:EST
DTSTART:20271107T060000
END:STANDARD
END:VTIMEZONE
BEGIN:VEVENT
DTSTART;TZID=America/New_York:20260419T000000
DTEND;TZID=America/New_York:20260422T235959
DTSTAMP:20260422T061938
CREATED:20260418T085605Z
LAST-MODIFIED:20260422T090545Z
UID:79679-1776556800-1776902399@bdpatoday.com
SUMMARY:Sea Air Space 2026 • National Harbor • Washington\, D.C.
DESCRIPTION:Register here →   https://seaairspace2026.completereg.com/Index.aspx  \nThe Navy League’s Global Maritime Expo\nPowered by the Navy League of the United States\, Sea-Air-Space is the premier maritime exposition in the U.S.\, bringing together defense industry leaders and top military decision-makers from around the world to share the latest advancements in the maritime domain. With industry leading speakers and events featured across three impactful days\, Sea-Air-Space is a must-attend for anyone invested in the future of U.S. maritime strength and innovation. \nShare this:\n				Share on X (Opens in new window)\n				X\n			\n				Share on Facebook (Opens in new window)\n				Facebook\n			\n				Share on LinkedIn (Opens in new window)\n				LinkedIn\n			\n				Share on Tumblr (Opens in new window)\n				Tumblr\n			\n				Share on Pinterest (Opens in new window)\n				Pinterest\n			Like this:Like Loading...
URL:https://bdpatoday.com/techevent/sea-air-space-2026-national-harbor-washington-d-c/
LOCATION:Gaylord National Resort & Convention Center\, 1101 Waterford Dr\, District Heights\, MD\, United States
END:VEVENT
END:VCALENDAR